BEGIN:VCALENDAR
VERSION:2.0
PRODID:El Segundo Libraries Calendar Creator
METHOD:PUBLISH
BEGIN:VEVENT
DTSTAMP:20251215T164346
DTSTART:20251127T000000
DTEND:20251128T235900
SUMMARY:The Library Will Be Closed for the Thanksgiving Holiday
DESCRIPTION:The Library will be closed in observance of the Thanksgiving holiday on Thursday, November 27 and Friday, November 28.
X-ALT-DESC;FMTTYPE=text/html:The Library will be closed in observance of the Thanksgiving holiday on Thursday, November 27 and Friday, November 28.
LOCATION:El Segundo Public Library\, 111 W. Mariposa Avenue El Segundo\, California 90245
CLASS:PUBLIC
END:VEVENT
END:VCALENDAR
