BEGIN:VCALENDAR
VERSION:2.0
PRODID:El Segundo Libraries Calendar Creator
METHOD:PUBLISH
BEGIN:VEVENT
DTSTAMP:20251103T152606
DTSTART:20251119T183000
DTEND:20251119T193000
SUMMARY:Evening Book Discussion Group
DESCRIPTION:The selection for this month's Evening Book Discussion Group is The Art Thief by Michael Finkel.&nbsp; Books are available at the Reference Desk to check out while supplies last.&nbsp; You can call the Reference Desk at 310-524-2728 for more information.
X-ALT-DESC;FMTTYPE=text/html:The selection for this month's Evening Book Discussion Group is The Art Thief by Michael Finkel.&nbsp; Books are available at the Reference Desk to check out while supplies last.&nbsp; You can call the Reference Desk at 310-524-2728 for more information.
LOCATION:El Segundo Public Library\, 111 W. Mariposa Avenue El Segundo\, California 90245
CLASS:PUBLIC
END:VEVENT
END:VCALENDAR
