BEGIN:VCALENDAR
VERSION:2.0
PRODID:El Segundo Libraries Calendar Creator
METHOD:PUBLISH
BEGIN:VEVENT
DTSTAMP:20251027T111554
DTSTART:20251103T160000
DTEND:20251103T200000
SUMMARY:Library closes at 4pm
DESCRIPTION:The library will close at 4:00pm for staff training.
X-ALT-DESC;FMTTYPE=text/html:The library will close at 4:00pm for staff training.
LOCATION:
CLASS:PUBLIC
END:VEVENT
END:VCALENDAR
