BEGIN:VCALENDAR
VERSION:2.0
PRODID:El Segundo Libraries Calendar Creator
METHOD:PUBLISH
BEGIN:VEVENT
DTSTAMP:20251016T105731
DTSTART:20251104T180000
DTEND:20251104T190000
SUMMARY:Sourdough Starter Program
DESCRIPTION:<p>Please join us for our upcoming FREE Sourdough Starter Startup in the Sue Carter Community Room at the El Segundo Public Library.</p><p><strong>This program is now FULL.&nbsp;This program will return in December please be on the lookout!</strong></p>
X-ALT-DESC;FMTTYPE=text/html:<p>Please join us for our upcoming FREE Sourdough Starter Startup in the Sue Carter Community Room at the El Segundo Public Library.</p><p><strong>This program is now FULL.&nbsp;This program will return in December please be on the lookout!</strong></p>
LOCATION:El Segundo Public Library\, 111 W. Mariposa Avenue El Segundo\, California 90245
CLASS:PUBLIC
END:VEVENT
END:VCALENDAR
