BEGIN:VCALENDAR
VERSION:2.0
PRODID:El Segundo Libraries Calendar Creator
METHOD:PUBLISH
BEGIN:VEVENT
DTSTAMP:20250918T125234
DTSTART:20250927T140000
DTEND:20250927T160000
SUMMARY:Music in the Afternoon
DESCRIPTION:<p>The El Segundo Public Library will present “Music in the Afternoon,” a free concert series held inside the Library on selected Saturday afternoons.&nbsp; </p><p>The Fall 2025 season begins on Saturday, September 27<sup>th</sup> at 2:00 pm featuring a trio called <b><i>Sippin’ Time</i></b>.&nbsp; </p><p>Musicians Larry Steen on bass, Yarone Levy on guitars and Nikki Steen on vocals, play pop, sultry soul, funky rock, and jazz.</p><p>You can view the flyer <a href="https://www.elsegundolibrary.org/home/showdocument?id=11496&amp;t=638932089410226437" target="_blank">HERE</a>.</p>
X-ALT-DESC;FMTTYPE=text/html:<p>The El Segundo Public Library will present “Music in the Afternoon,” a free concert series held inside the Library on selected Saturday afternoons.&nbsp; </p><p>The Fall 2025 season begins on Saturday, September 27<sup>th</sup> at 2:00 pm featuring a trio called <b><i>Sippin’ Time</i></b>.&nbsp; </p><p>Musicians Larry Steen on bass, Yarone Levy on guitars and Nikki Steen on vocals, play pop, sultry soul, funky rock, and jazz.</p><p>You can view the flyer <a href="https://www.elsegundolibrary.org/home/showdocument?id=11496&amp;t=638932089410226437" target="_blank">HERE</a>.</p>
LOCATION:El Segundo Public Library\, 111 W. Mariposa Avenue El Segundo\, California 90245
CLASS:PUBLIC
END:VEVENT
END:VCALENDAR
