BEGIN:VCALENDAR
VERSION:2.0
PRODID:El Segundo Libraries Calendar Creator
METHOD:PUBLISH
BEGIN:VEVENT
DTSTAMP:20251007T110632
DTSTART:20251024T170000
DTEND:20251024T180000
SUMMARY:Spooky Story Time Bonfire
DESCRIPTION:<p>Gather around the Recreation Park Fire Circle for a spooky story! Join us on Friday, October 24th at 5:00pm. for a Spooky Story Time Bonfire. It will be a night filled with stories, songs, s'mores, and spooky crafts. Free fun, designed for kids ages 0-5 and their families.</p><div unselectable="on" class="rrHandle rrSE" style="position: absolute; cursor: se-resize; z-index: auto; height: 7px; width: 7px; top: 1545.5px; left: 794.5px;"></div><div unselectable="on" class="rrHandle rrE" style="position: absolute; cursor: e-resize; z-index: auto; height: 7px; width: 7px; top: 1042.5px; left: 794.5px;"></div><div unselectable="on" class="rrHandle rrNE" style="position: absolute; cursor: ne-resize; z-index: auto; height: 7px; width: 7px; top: 539.5px; left: 794.5px;"></div><div unselectable="on" class="rrHandle rrN" style="position: absolute; cursor: n-resize; z-index: auto; height: 7px; width: 7px; top: 539.5px; left: 406px;"></div><div unselectable="on" class="rrHandle rrNW" style="position: absolute; cursor: nw-resize; z-index: auto; height: 7px; width: 7px; top: 539.5px; left: 17.5px;"></div><div unselectable="on" class="rrHandle rrW" style="position: absolute; cursor: w-resize; z-index: auto; height: 7px; width: 7px; top: 1042.5px; left: 17.5px;"></div><p></p>
X-ALT-DESC;FMTTYPE=text/html:<p>Gather around the Recreation Park Fire Circle for a spooky story! Join us on Friday, October 24th at 5:00pm. for a Spooky Story Time Bonfire. It will be a night filled with stories, songs, s'mores, and spooky crafts. Free fun, designed for kids ages 0-5 and their families.</p><div unselectable="on" class="rrHandle rrSE" style="position: absolute; cursor: se-resize; z-index: auto; height: 7px; width: 7px; top: 1545.5px; left: 794.5px;"></div><div unselectable="on" class="rrHandle rrE" style="position: absolute; cursor: e-resize; z-index: auto; height: 7px; width: 7px; top: 1042.5px; left: 794.5px;"></div><div unselectable="on" class="rrHandle rrNE" style="position: absolute; cursor: ne-resize; z-index: auto; height: 7px; width: 7px; top: 539.5px; left: 794.5px;"></div><div unselectable="on" class="rrHandle rrN" style="position: absolute; cursor: n-resize; z-index: auto; height: 7px; width: 7px; top: 539.5px; left: 406px;"></div><div unselectable="on" class="rrHandle rrNW" style="position: absolute; cursor: nw-resize; z-index: auto; height: 7px; width: 7px; top: 539.5px; left: 17.5px;"></div><div unselectable="on" class="rrHandle rrW" style="position: absolute; cursor: w-resize; z-index: auto; height: 7px; width: 7px; top: 1042.5px; left: 17.5px;"></div><p></p>
LOCATION:Recreation Park\, 401 Sheldon Street El Segundo\, California 90245
CLASS:PUBLIC
END:VEVENT
END:VCALENDAR
