BEGIN:VCALENDAR
VERSION:2.0
PRODID:El Segundo Libraries Calendar Creator
METHOD:PUBLISH
BEGIN:VEVENT
DTSTAMP:20250820T142107
DTSTART:20250929T150000
DTEND:20250929T160000
SUMMARY:Tween Scene
DESCRIPTION:<p>3:00PM-4:00PM<br>Sue Carter Community Room</p><p>Meet up with your friends, enjoy snacks and craft together at this new program just for tweens<strong> (grades 3-5)</strong>. Available while supplies last. No registration is required. Children age 8 and under must be accompanied by an adult.</p><p>&nbsp;</p>
X-ALT-DESC;FMTTYPE=text/html:<p>3:00PM-4:00PM<br>Sue Carter Community Room</p><p>Meet up with your friends, enjoy snacks and craft together at this new program just for tweens<strong> (grades 3-5)</strong>. Available while supplies last. No registration is required. Children age 8 and under must be accompanied by an adult.</p><p>&nbsp;</p>
LOCATION:El Segundo Public Library\, 111 W. Mariposa Avenue El Segundo\, California 90245
CLASS:PUBLIC
END:VEVENT
END:VCALENDAR
