BEGIN:VCALENDAR
VERSION:2.0
PRODID:El Segundo Libraries Calendar Creator
METHOD:PUBLISH
BEGIN:VEVENT
DTSTAMP:20250924T105057
DTSTART:20250924T150000
DTEND:20250924T154500
SUMMARY:Wonderful Wednesdays - CANCELLED
DESCRIPTION:<p direction-ltr="" align-center="" para-style-body"="">*PROGRAM CANCELLED* </p><p direction-ltr="" align-center="" para-style-body"="">Due to a facilities issue, today's program is cancelled.&nbsp; Craft kits will be given out at 3pm at the Youth Desk, to children ages 5-10 as supplies last.</p><p direction-ltr="" align-center="" para-style-body"="">We apologies for the inconvenience and hope you'll join us next week.</p><p direction-ltr="" align-center="" para-style-body"="">3 - 3:45 p.m.</p><p direction-ltr="" align-center="" para-style-body"="">For children ages 5-10.<br>Meets in the Sue Carter Community Room.</p><p direction-ltr="" align-center="" para-style-body"="">Join your friends for fun staff led activities!<br>Activities may include stories, crafts, or scavenger hunts.</p><p direction-ltr="" align-center="" para-style-body"="">No registration is required.<br>Children 8 &amp; under must be accompanied by an adult caregiver.</p>
X-ALT-DESC;FMTTYPE=text/html:<p direction-ltr="" align-center="" para-style-body"="">*PROGRAM CANCELLED* </p><p direction-ltr="" align-center="" para-style-body"="">Due to a facilities issue, today's program is cancelled.&nbsp; Craft kits will be given out at 3pm at the Youth Desk, to children ages 5-10 as supplies last.</p><p direction-ltr="" align-center="" para-style-body"="">We apologies for the inconvenience and hope you'll join us next week.</p><p direction-ltr="" align-center="" para-style-body"="">3 - 3:45 p.m.</p><p direction-ltr="" align-center="" para-style-body"="">For children ages 5-10.<br>Meets in the Sue Carter Community Room.</p><p direction-ltr="" align-center="" para-style-body"="">Join your friends for fun staff led activities!<br>Activities may include stories, crafts, or scavenger hunts.</p><p direction-ltr="" align-center="" para-style-body"="">No registration is required.<br>Children 8 &amp; under must be accompanied by an adult caregiver.</p>
LOCATION:El Segundo Public Library\, 111 W. Mariposa Avenue El Segundo\, California 90245
CLASS:PUBLIC
END:VEVENT
END:VCALENDAR
