BEGIN:VCALENDAR
VERSION:2.0
PRODID:El Segundo Libraries Calendar Creator
METHOD:PUBLISH
BEGIN:VEVENT
DTSTAMP:20251001T101047
DTSTART:20251025T120000
DTEND:20251025T160000
SUMMARY:Halloween Frolic
DESCRIPTION:<p>Get ready for a day of tricks, treats, and tons of fun! Join us at our annual Halloween Frolic on Saturday, October 25th from 12:00pm-4:00pm on the 300 &amp; 400 blocks of Main Street. The day will be filled with bounce houses, arts &amp; crafts, games, music, food, and plenty of spooky fun for the whole family!<br><br>Entertainment throughout the day includes:<br><span style="white-space:pre">	</span>Costume Contest beginning at 12:20pm<br><span style="white-space:pre">	</span>Athletic Grace Dance Studio performance of “Thriller” at 2:00pm<br><span style="white-space:pre">	</span>Halloween Marionette Show &amp; Craft at 2:30pm<br>&nbsp;<span style="white-space:pre">	</span>Roving Magician along Main St. from 2:45pm to 3:45pm<br><br>Wristbands will be available for $10 pre-sale starting on Wednesday, October 1st at the Clubhouse and Joslyn Center.<br><br>For more information, please call 310-524-2700.</p><p></p><div></div>
X-ALT-DESC;FMTTYPE=text/html:<p>Get ready for a day of tricks, treats, and tons of fun! Join us at our annual Halloween Frolic on Saturday, October 25th from 12:00pm-4:00pm on the 300 &amp; 400 blocks of Main Street. The day will be filled with bounce houses, arts &amp; crafts, games, music, food, and plenty of spooky fun for the whole family!<br><br>Entertainment throughout the day includes:<br><span style="white-space:pre">	</span>Costume Contest beginning at 12:20pm<br><span style="white-space:pre">	</span>Athletic Grace Dance Studio performance of “Thriller” at 2:00pm<br><span style="white-space:pre">	</span>Halloween Marionette Show &amp; Craft at 2:30pm<br>&nbsp;<span style="white-space:pre">	</span>Roving Magician along Main St. from 2:45pm to 3:45pm<br><br>Wristbands will be available for $10 pre-sale starting on Wednesday, October 1st at the Clubhouse and Joslyn Center.<br><br>For more information, please call 310-524-2700.</p><p></p><div></div>
LOCATION:El Segundo City Hall\, 350 Main Street El Segundo\, California 90245
CLASS:PUBLIC
END:VEVENT
END:VCALENDAR
