BEGIN:VCALENDAR
VERSION:2.0
PRODID:El Segundo Libraries Calendar Creator
METHOD:PUBLISH
BEGIN:VEVENT
DTSTAMP:20250805T110512
DTSTART:20251112T170000
DTEND:20251112T190000
SUMMARY:Poetry Workshop on Rhyme
DESCRIPTION:<p>During this writing workshop poets will learn rhyming techniques to reinvigorate their approach to sound and music in poetry.&nbsp; This program will take place in the library's Community Room.&nbsp;</p><p>You may view the flyer <a href="https://www.elsegundolibrary.org/home/showdocument?id=11268&amp;t=638899871302030050 " target="_blank">HERE</a> for more information.</p><p>Please contact the Reference Desk at 310-524-2728 for questions.</p><p>&nbsp;</p>
X-ALT-DESC;FMTTYPE=text/html:<p>During this writing workshop poets will learn rhyming techniques to reinvigorate their approach to sound and music in poetry.&nbsp; This program will take place in the library's Community Room.&nbsp;</p><p>You may view the flyer <a href="https://www.elsegundolibrary.org/home/showdocument?id=11268&amp;t=638899871302030050 " target="_blank">HERE</a> for more information.</p><p>Please contact the Reference Desk at 310-524-2728 for questions.</p><p>&nbsp;</p>
LOCATION:El Segundo Public Library\, 111 W. Mariposa Avenue El Segundo\, California 90245
CLASS:PUBLIC
END:VEVENT
END:VCALENDAR
