BEGIN:VCALENDAR
VERSION:2.0
PRODID:El Segundo Libraries Calendar Creator
METHOD:PUBLISH
BEGIN:VEVENT
DTSTAMP:20250731T131438
DTSTART:20250805T150000
DTEND:20250805T170000
SUMMARY:Ani-Make Teen Program
DESCRIPTION:<p>Movie + Craft + Ramen</p><p>Teens join us for a fun craft and showing of a popular anime film. We will be making anime inspired perler bead key chains!</p><p>Ramen will be provided. While supplies last. No registration required.</p>
X-ALT-DESC;FMTTYPE=text/html:<p>Movie + Craft + Ramen</p><p>Teens join us for a fun craft and showing of a popular anime film. We will be making anime inspired perler bead key chains!</p><p>Ramen will be provided. While supplies last. No registration required.</p>
LOCATION:El Segundo Public Library\, 111 W. Mariposa Avenue El Segundo\, California 90245
CLASS:PUBLIC
END:VEVENT
END:VCALENDAR
