BEGIN:VCALENDAR
VERSION:2.0
PRODID:El Segundo Libraries Calendar Creator
METHOD:PUBLISH
BEGIN:VEVENT
DTSTAMP:20250721T141049
DTSTART:20250724T160000
DTEND:20250724T170000
SUMMARY:Craft & Connect
DESCRIPTION:<p>4:00PM-5:00PM<br>Sue Carter Community Room<br><strong>For 18-20year olds&nbsp;</strong></p><p>Join us for Craft &amp; Connect, a laid-back space to make cool DIY projects, meet new people, and just vibe.<br>No pressure, no experience needed. We’ve got the supplies and snacks, just bring yourself!</p><p>No registration required.<br>While Supplies Last.</p>
X-ALT-DESC;FMTTYPE=text/html:<p>4:00PM-5:00PM<br>Sue Carter Community Room<br><strong>For 18-20year olds&nbsp;</strong></p><p>Join us for Craft &amp; Connect, a laid-back space to make cool DIY projects, meet new people, and just vibe.<br>No pressure, no experience needed. We’ve got the supplies and snacks, just bring yourself!</p><p>No registration required.<br>While Supplies Last.</p>
LOCATION:El Segundo Public Library\, 111 W. Mariposa Avenue El Segundo\, California 90245
CLASS:PUBLIC
END:VEVENT
END:VCALENDAR
