BEGIN:VCALENDAR
VERSION:2.0
PRODID:El Segundo Libraries Calendar Creator
METHOD:PUBLISH
BEGIN:VEVENT
DTSTAMP:20250716T153649
DTSTART:20250731T150000
DTEND:20250731T173000
SUMMARY:Harry Potter Tween Program
DESCRIPTION:<p>Someone’s having a birthday!<br><strong>Tweens (grades 3-5)</strong></p><p>Celebrate our favorite wizard's special day, with snacks, a craft and movie.<br>Wear your favorite wizard gear!<br>No registration required.<br>Sue Carter Community Room<br>Movie is rated PG. Run time is 152 minutes.<br>Questions? Call 310-524-2726</p>
X-ALT-DESC;FMTTYPE=text/html:<p>Someone’s having a birthday!<br><strong>Tweens (grades 3-5)</strong></p><p>Celebrate our favorite wizard's special day, with snacks, a craft and movie.<br>Wear your favorite wizard gear!<br>No registration required.<br>Sue Carter Community Room<br>Movie is rated PG. Run time is 152 minutes.<br>Questions? Call 310-524-2726</p>
LOCATION:El Segundo Public Library\, 111 W. Mariposa Avenue El Segundo\, California 90245
CLASS:PUBLIC
END:VEVENT
END:VCALENDAR
