BEGIN:VCALENDAR
VERSION:2.0
PRODID:El Segundo Libraries Calendar Creator
METHOD:PUBLISH
BEGIN:VEVENT
DTSTAMP:20250626T093537
DTSTART:20250730T183000
DTEND:20250730T193000
SUMMARY:Evening Book Discussion Group
DESCRIPTION:<p>July's book selection is "A Thousand Feasts" by Nigel Slater and copies are available at the Reference Desk for check out, while supplies last.&nbsp;&nbsp;</p><p>You may call 310-524-2728 for more information.</p>
X-ALT-DESC;FMTTYPE=text/html:<p>July's book selection is "A Thousand Feasts" by Nigel Slater and copies are available at the Reference Desk for check out, while supplies last.&nbsp;&nbsp;</p><p>You may call 310-524-2728 for more information.</p>
LOCATION:El Segundo Public Library\, 111 W. Mariposa Avenue El Segundo\, California 90245
CLASS:PUBLIC
END:VEVENT
END:VCALENDAR
