BEGIN:VCALENDAR
VERSION:2.0
PRODID:El Segundo Libraries Calendar Creator
METHOD:PUBLISH
BEGIN:VEVENT
DTSTAMP:20250610T163640
DTSTART:20250616T000000
DTEND:20250616T235900
SUMMARY:Library is Closed
DESCRIPTION:The Library will be closed on Monday, June 16, 2025 for Staff Development.
X-ALT-DESC;FMTTYPE=text/html:The Library will be closed on Monday, June 16, 2025 for Staff Development.
LOCATION:El Segundo Public Library\, 111 W. Mariposa Avenue El Segundo\, California 90245
CLASS:PUBLIC
END:VEVENT
END:VCALENDAR
