BEGIN:VCALENDAR
VERSION:2.0
PRODID:El Segundo Libraries Calendar Creator
METHOD:PUBLISH
BEGIN:VEVENT
DTSTAMP:20250609T145457
DTSTART:20250625T183000
DTEND:20250625T193000
SUMMARY:Evening Book Discussion Group
DESCRIPTION:"The Life Cycle of the Common Octopus" by Emma Knight is the selection for June's Evening Book Discussion Group.&nbsp; Copies of this title are available for checkout at the Reference Desk while supplies last.&nbsp; You may contact the Reference Desk at 310-524-2728 for more information.
X-ALT-DESC;FMTTYPE=text/html:"The Life Cycle of the Common Octopus" by Emma Knight is the selection for June's Evening Book Discussion Group.&nbsp; Copies of this title are available for checkout at the Reference Desk while supplies last.&nbsp; You may contact the Reference Desk at 310-524-2728 for more information.
LOCATION:El Segundo Public Library\, 111 W. Mariposa Avenue El Segundo\, California 90245
CLASS:PUBLIC
END:VEVENT
END:VCALENDAR
