BEGIN:VCALENDAR
VERSION:2.0
PRODID:El Segundo Libraries Calendar Creator
METHOD:PUBLISH
BEGIN:VEVENT
DTSTAMP:20250703T133639
DTSTART:20250715T153000
DTEND:20250715T163000
SUMMARY:Crafteen
DESCRIPTION:<p><strong>Crafteen<br></strong>3:30PM-4:30PM</p><p>For Teens 6th-12th grade.<br>No registration required.</p><p>Join us at STUFT PIZZA 400 Main St. El Segundo, CA 90245 for a fun afternoon of making crafts &amp; free pizza! </p><p>&nbsp;</p>
X-ALT-DESC;FMTTYPE=text/html:<p><strong>Crafteen<br></strong>3:30PM-4:30PM</p><p>For Teens 6th-12th grade.<br>No registration required.</p><p>Join us at STUFT PIZZA 400 Main St. El Segundo, CA 90245 for a fun afternoon of making crafts &amp; free pizza! </p><p>&nbsp;</p>
LOCATION:Stuft Pizza\, 400 Main Street El Segundo\, California 90245
CLASS:PUBLIC
END:VEVENT
END:VCALENDAR
