BEGIN:VCALENDAR
VERSION:2.0
PRODID:El Segundo Libraries Calendar Creator
METHOD:PUBLISH
BEGIN:VEVENT
DTSTAMP:20250609T124705
DTSTART:20250610T150000
DTEND:20250610T170000
SUMMARY:Switch It Up! Tween Gaming program
DESCRIPTION:<p><strong>Calling all tweens!</strong></p><p>Join us for an epic afternoon of gaming, fun, and snacks!<br>Bring your friends and your Nintendo switch!</p><p>&nbsp;3:00PM-5:00PM<br>@Sue Carter Community Room<br>No registration required.</p><p>For Tweens grades 3-5.</p><p>For more information please call (310)524-2726.</p>
X-ALT-DESC;FMTTYPE=text/html:<p><strong>Calling all tweens!</strong></p><p>Join us for an epic afternoon of gaming, fun, and snacks!<br>Bring your friends and your Nintendo switch!</p><p>&nbsp;3:00PM-5:00PM<br>@Sue Carter Community Room<br>No registration required.</p><p>For Tweens grades 3-5.</p><p>For more information please call (310)524-2726.</p>
LOCATION:El Segundo Public Library\, 111 W. Mariposa Avenue El Segundo\, California 90245
CLASS:PUBLIC
END:VEVENT
END:VCALENDAR
