BEGIN:VCALENDAR
VERSION:2.0
PRODID:El Segundo Libraries Calendar Creator
METHOD:PUBLISH
BEGIN:VEVENT
DTSTAMP:20250527T103416
DTSTART:20250618T150000
DTEND:20250618T154500
SUMMARY:Mad Science:  Spin, Pop, Boom!
DESCRIPTION:<p><strong>Join us for our Summer Reading Program kick off “Spin, Pop, Boom” with Mad Science!&nbsp;</strong></p><p>Children will learn all about gravity and&nbsp;motion in this engaging show.&nbsp;</p><p>No registration required.&nbsp;<br>Suitable for children ages 5-10 years old.&nbsp; Children age 8 and under must be&nbsp;accompanied by an adult caregiver.</p>
X-ALT-DESC;FMTTYPE=text/html:<p><strong>Join us for our Summer Reading Program kick off “Spin, Pop, Boom” with Mad Science!&nbsp;</strong></p><p>Children will learn all about gravity and&nbsp;motion in this engaging show.&nbsp;</p><p>No registration required.&nbsp;<br>Suitable for children ages 5-10 years old.&nbsp; Children age 8 and under must be&nbsp;accompanied by an adult caregiver.</p>
LOCATION:
CLASS:PUBLIC
END:VEVENT
END:VCALENDAR
