BEGIN:VCALENDAR
VERSION:2.0
PRODID:El Segundo Libraries Calendar Creator
METHOD:PUBLISH
BEGIN:VEVENT
DTSTAMP:20250527T103020
DTSTART:20250604T150000
DTEND:20250604T160000
SUMMARY:Public Safety Storytime
DESCRIPTION:<p>Sue Carter Community Room<br>For ages 5+ and their families.</p><p>Join us for stories, meet school resource officers and check out a real patrol car!</p>
X-ALT-DESC;FMTTYPE=text/html:<p>Sue Carter Community Room<br>For ages 5+ and their families.</p><p>Join us for stories, meet school resource officers and check out a real patrol car!</p>
LOCATION:El Segundo Public Library\, 111 W. Mariposa Avenue El Segundo\, California 90245
CLASS:PUBLIC
END:VEVENT
END:VCALENDAR
