BEGIN:VCALENDAR
VERSION:2.0
PRODID:El Segundo Libraries Calendar Creator
METHOD:PUBLISH
BEGIN:VEVENT
DTSTAMP:20250529T093521
DTSTART:20250617T153000
DTEND:20250617T173000
SUMMARY:Teen K-Pop Dance Party
DESCRIPTION:<p><strong><em>Join us as we kick off our teen summer reading program with music, crafts and activities!</em></strong></p><p><strong><em>For Teens 6th-12th grade. No registration required.<br>Sue Carter Community Room</em></strong></p><ul>    <li>Toploader decorating, bias button making and more! Craft supplies will be provided while supplies last.</li>    <li>Dance with your friends &amp; pose for the camera! Photo booth and other activities.</li>    <li>Ramen and popular Korean snacks will be provided!</li></ul><p>&nbsp;For more information please call (310) 524-2799.</p>
X-ALT-DESC;FMTTYPE=text/html:<p><strong><em>Join us as we kick off our teen summer reading program with music, crafts and activities!</em></strong></p><p><strong><em>For Teens 6th-12th grade. No registration required.<br>Sue Carter Community Room</em></strong></p><ul>    <li>Toploader decorating, bias button making and more! Craft supplies will be provided while supplies last.</li>    <li>Dance with your friends &amp; pose for the camera! Photo booth and other activities.</li>    <li>Ramen and popular Korean snacks will be provided!</li></ul><p>&nbsp;For more information please call (310) 524-2799.</p>
LOCATION:El Segundo Public Library\, 111 W. Mariposa Avenue El Segundo\, California 90245
CLASS:PUBLIC
END:VEVENT
END:VCALENDAR
