BEGIN:VCALENDAR
VERSION:2.0
PRODID:El Segundo Libraries Calendar Creator
METHOD:PUBLISH
BEGIN:VEVENT
DTSTAMP:20250714T083752
DTSTART:20250719T100000
DTEND:20250719T110000
SUMMARY:Summer Story Explorers
DESCRIPTION:<p>Saturdays, June 21 &amp; July 19, 2025<br>10:30 - 11 a.m.</p><p >Families and their children are invited to join us for stories, songs and a craft (while supplies last).&nbsp;</p><p >No registration required.&nbsp;</p><p >For ages 0-10 years. Children age 8 and under&nbsp;must be accompanied by adult caregiver.&nbsp;</p>
X-ALT-DESC;FMTTYPE=text/html:<p>Saturdays, June 21 &amp; July 19, 2025<br>10:30 - 11 a.m.</p><p >Families and their children are invited to join us for stories, songs and a craft (while supplies last).&nbsp;</p><p >No registration required.&nbsp;</p><p >For ages 0-10 years. Children age 8 and under&nbsp;must be accompanied by adult caregiver.&nbsp;</p>
LOCATION:El Segundo Public Library\, 111 W. Mariposa Avenue El Segundo\, California 90245
CLASS:PUBLIC
END:VEVENT
END:VCALENDAR
