BEGIN:VCALENDAR
VERSION:2.0
PRODID:El Segundo Libraries Calendar Creator
METHOD:PUBLISH
BEGIN:VEVENT
DTSTAMP:20250415T115736
DTSTART:20250419T100000
DTEND:20250419T110000
SUMMARY:El Segundo Blue Butterfly Poetry Walk
DESCRIPTION:<p><strong>Meets at the 600 block of West Imperial Avenue between Loma Vista and Hillcrest.</strong></p><p>Join El Segundo Poet Laureate Kweku Abimbola and Master Gardener Barbara Boland as they lead us on a short walk-through Memory Tree Row. Participants will observe nature while considering it a source of inspiration for creative work while getting to see and hear about environmental restoration efforts of the Blue Butterfly Conservancy group. Kweku Abimbola will then lead participants through a brief journal exercise, dialog and poetry writing inspired by their observations of nature around them.</p><p>Participants are encouraged to bring a notebook, pens or pencils, a towel, beach blanket, or beach chair to sit on, along with a light snack and bottled water.</p><p>This event is <strong>FREE</strong> and welcomes all ages.<br>The Poet Laureate Program is funded by the City’s Cultural Development Program.</p><p>For more information, contact the Reference Desk at 310-524-2728 or refdesk@elsegundo.org<br><div>&nbsp;</div><p><a href="https://www.elsegundolibrary.gov/home/showpublisheddocument/10557/638790323414570000" target="_blank">Click here for program flyer.</a></p></p>
X-ALT-DESC;FMTTYPE=text/html:<p><strong>Meets at the 600 block of West Imperial Avenue between Loma Vista and Hillcrest.</strong></p><p>Join El Segundo Poet Laureate Kweku Abimbola and Master Gardener Barbara Boland as they lead us on a short walk-through Memory Tree Row. Participants will observe nature while considering it a source of inspiration for creative work while getting to see and hear about environmental restoration efforts of the Blue Butterfly Conservancy group. Kweku Abimbola will then lead participants through a brief journal exercise, dialog and poetry writing inspired by their observations of nature around them.</p><p>Participants are encouraged to bring a notebook, pens or pencils, a towel, beach blanket, or beach chair to sit on, along with a light snack and bottled water.</p><p>This event is <strong>FREE</strong> and welcomes all ages.<br>The Poet Laureate Program is funded by the City’s Cultural Development Program.</p><p>For more information, contact the Reference Desk at 310-524-2728 or refdesk@elsegundo.org<br><div>&nbsp;</div><p><a href="https://www.elsegundolibrary.gov/home/showpublisheddocument/10557/638790323414570000" target="_blank">Click here for program flyer.</a></p></p>
LOCATION:
CLASS:PUBLIC
END:VEVENT
END:VCALENDAR
