BEGIN:VCALENDAR
VERSION:2.0
PRODID:El Segundo Libraries Calendar Creator
METHOD:PUBLISH
BEGIN:VEVENT
DTSTAMP:20250331T144518
DTSTART:20250409T183000
DTEND:20250409T193000
SUMMARY:National Library Week Book Discussion
DESCRIPTION:<p>Celebrate National Library Week at the El Segundo Public Library!</p><p>We will be discussing his book, <em>Saturday Night at the Lakeside Supper Club</em> on Wednesday, April 9th, 6:30PM in the library's Community Room. Books will be available at the Reference Desk to check-out beginning March 3rd.</p><p>&nbsp;</p>
X-ALT-DESC;FMTTYPE=text/html:<p>Celebrate National Library Week at the El Segundo Public Library!</p><p>We will be discussing his book, <em>Saturday Night at the Lakeside Supper Club</em> on Wednesday, April 9th, 6:30PM in the library's Community Room. Books will be available at the Reference Desk to check-out beginning March 3rd.</p><p>&nbsp;</p>
LOCATION:El Segundo Public Library\, 111 W. Mariposa Avenue El Segundo\, California 90245
CLASS:PUBLIC
END:VEVENT
END:VCALENDAR
