BEGIN:VCALENDAR
VERSION:2.0
PRODID:El Segundo Libraries Calendar Creator
METHOD:PUBLISH
BEGIN:VEVENT
DTSTAMP:20250327T121958
DTSTART:20250430T183000
DTEND:20250430T193000
SUMMARY:Evening Book Discussion Group
DESCRIPTION:April's book choice is SANDWICH by Catherine Newman.&nbsp; Copies are available for checkout at the library's Reference Desk while supplies last.&nbsp; You may contact the Reference Desk at 310-524-2728.
X-ALT-DESC;FMTTYPE=text/html:April's book choice is SANDWICH by Catherine Newman.&nbsp; Copies are available for checkout at the library's Reference Desk while supplies last.&nbsp; You may contact the Reference Desk at 310-524-2728.
LOCATION:El Segundo Public Library\, 111 W. Mariposa Avenue El Segundo\, California 90245
CLASS:PUBLIC
END:VEVENT
END:VCALENDAR
