BEGIN:VCALENDAR
VERSION:2.0
PRODID:El Segundo Libraries Calendar Creator
METHOD:PUBLISH
BEGIN:VEVENT
DTSTAMP:20250319T153033
DTSTART:20250408T150000
DTEND:20250408T160000
SUMMARY:Youth Book Swap
DESCRIPTION:<p><strong>Bring a book, take a book!</strong></p><p>Families are welcome to bring up to 50 books to swap.<br>Good condition titles only please (no mold, stains, broken spines, torn pages or covers).<br>For ages 13 and under.</p><p>Children 8 and under must be accompanied by an adult caregiver.</p>
X-ALT-DESC;FMTTYPE=text/html:<p><strong>Bring a book, take a book!</strong></p><p>Families are welcome to bring up to 50 books to swap.<br>Good condition titles only please (no mold, stains, broken spines, torn pages or covers).<br>For ages 13 and under.</p><p>Children 8 and under must be accompanied by an adult caregiver.</p>
LOCATION:
CLASS:PUBLIC
END:VEVENT
END:VCALENDAR
