BEGIN:VCALENDAR
VERSION:2.0
PRODID:El Segundo Libraries Calendar Creator
METHOD:PUBLISH
BEGIN:VEVENT
DTSTAMP:20250505T093655
DTSTART:20250519T140000
DTEND:20250519T150000
SUMMARY:Books and Bites
DESCRIPTION:<p>Join us for book chat, treats, and a book-themed activity!</p><p>Grades 3-5<br>Monday, May19 from 2:00 p.m. - 3:00 p.m.</p><p>Read any book from the Dogman series before the program. </p><p>Copies of the books may be available at the Youth Desk or online through the Libby App.</p><p>Registration is not required.<br><div></div></p><p>Questions? 310-524-2772 | kbeckman@elsegundo.org<br><br><br></p><br>
X-ALT-DESC;FMTTYPE=text/html:<p>Join us for book chat, treats, and a book-themed activity!</p><p>Grades 3-5<br>Monday, May19 from 2:00 p.m. - 3:00 p.m.</p><p>Read any book from the Dogman series before the program. </p><p>Copies of the books may be available at the Youth Desk or online through the Libby App.</p><p>Registration is not required.<br><div></div></p><p>Questions? 310-524-2772 | kbeckman@elsegundo.org<br><br><br></p><br>
LOCATION:El Segundo Public Library\, 111 W. Mariposa Avenue El Segundo\, California 90245
CLASS:PUBLIC
END:VEVENT
END:VCALENDAR
