BEGIN:VCALENDAR
VERSION:2.0
PRODID:El Segundo Libraries Calendar Creator
METHOD:PUBLISH
BEGIN:VEVENT
DTSTAMP:20250420T134204
DTSTART:20250421T140000
DTEND:20250421T150000
SUMMARY:Books and Bites
DESCRIPTION:<p>Join us for book chat, treats, and a book-themed activity!</p><p>GRADES 3-5<br>MONDAY, April 21st, 2-3 P.M.</p><p>Read any book from the Diary of a Wimpy Kid series before the program. Copies of the books may be available at the Youth Desk or online through the Libby App.<br>Registration is not required.</p><div></div><p>&nbsp;</p><p>Questions? 310-524-2772 | kbeckman@elsegundo.org<br><br><br></p><br>
X-ALT-DESC;FMTTYPE=text/html:<p>Join us for book chat, treats, and a book-themed activity!</p><p>GRADES 3-5<br>MONDAY, April 21st, 2-3 P.M.</p><p>Read any book from the Diary of a Wimpy Kid series before the program. Copies of the books may be available at the Youth Desk or online through the Libby App.<br>Registration is not required.</p><div></div><p>&nbsp;</p><p>Questions? 310-524-2772 | kbeckman@elsegundo.org<br><br><br></p><br>
LOCATION:El Segundo Public Library\, 111 W. Mariposa Avenue El Segundo\, California 90245
CLASS:PUBLIC
END:VEVENT
END:VCALENDAR
