BEGIN:VCALENDAR
VERSION:2.0
PRODID:El Segundo Libraries Calendar Creator
METHOD:PUBLISH
BEGIN:VEVENT
DTSTAMP:20250423T172233
DTSTART:20250424T180000
DTEND:20250424T190000
SUMMARY:New Kids on the Block a Lego Club
DESCRIPTION:<p direction-ltr="" align-center="">Registration for April 24th Program will open April 17th at 9 a.m.<br><a id="LPlnk" data-auth="NotApplicable" rel="noopener noreferrer" target="_blank" href="https://www.elsegundolibrary.org/Home/Components/Calendar/Event/8891/41810" title="https://www.elsegundolibrary.org/Home/Components/Calendar/Event/8891/41810" data-linkindex="0" data-olk-copy-source="MessageBody"></a></p><p direction-ltr="" align-center="">Registration is full.&nbsp; You can <a href="https://wkf.ms/3F5UbOI" target="_blank">register for the waitlist</a> online.</p><p direction-ltr="" align-center=""><div>Meeting takes place in&nbsp;Sue Carter Community Room and Lego will be provided.</div></p><p>Program is for ages 5-12.</p><p>Children 8 an under must be accompanied&nbsp;by an adult caregiver for entire program.</p><p>Please call 310-524-2726 with any questions.</p>
X-ALT-DESC;FMTTYPE=text/html:<p direction-ltr="" align-center="">Registration for April 24th Program will open April 17th at 9 a.m.<br><a id="LPlnk" data-auth="NotApplicable" rel="noopener noreferrer" target="_blank" href="https://www.elsegundolibrary.org/Home/Components/Calendar/Event/8891/41810" title="https://www.elsegundolibrary.org/Home/Components/Calendar/Event/8891/41810" data-linkindex="0" data-olk-copy-source="MessageBody"></a></p><p direction-ltr="" align-center="">Registration is full.&nbsp; You can <a href="https://wkf.ms/3F5UbOI" target="_blank">register for the waitlist</a> online.</p><p direction-ltr="" align-center=""><div>Meeting takes place in&nbsp;Sue Carter Community Room and Lego will be provided.</div></p><p>Program is for ages 5-12.</p><p>Children 8 an under must be accompanied&nbsp;by an adult caregiver for entire program.</p><p>Please call 310-524-2726 with any questions.</p>
LOCATION:El Segundo Public Library\, 111 W. Mariposa Avenue El Segundo\, California 90245
CLASS:PUBLIC
END:VEVENT
END:VCALENDAR
