BEGIN:VCALENDAR
VERSION:2.0
PRODID:El Segundo Libraries Calendar Creator
METHOD:PUBLISH
BEGIN:VEVENT
DTSTAMP:20250515T093308
DTSTART:20250522T180000
DTEND:20250522T190000
SUMMARY:New Kids on the Block a Lego Club
DESCRIPTION:<p direction-ltr="" align-center="">Registration for the May 22nd Program will open May 15th at 9 a.m.</p><p direction-ltr="" align-center="">Please&nbsp;<a href="https://wkf.ms/4kz9j7t" target="_blank">register online here</a>.</p><p>Meeting takes place in&nbsp;Sue Carter Community Room Lego will be provided.<br>Program for ages 5-12.</p><p>Children 8 and under must be accompanied&nbsp;by an adult caregiver for entire program.</p>
X-ALT-DESC;FMTTYPE=text/html:<p direction-ltr="" align-center="">Registration for the May 22nd Program will open May 15th at 9 a.m.</p><p direction-ltr="" align-center="">Please&nbsp;<a href="https://wkf.ms/4kz9j7t" target="_blank">register online here</a>.</p><p>Meeting takes place in&nbsp;Sue Carter Community Room Lego will be provided.<br>Program for ages 5-12.</p><p>Children 8 and under must be accompanied&nbsp;by an adult caregiver for entire program.</p>
LOCATION:El Segundo Public Library\, 111 W. Mariposa Avenue El Segundo\, California 90245
CLASS:PUBLIC
END:VEVENT
END:VCALENDAR
