BEGIN:VCALENDAR
VERSION:2.0
PRODID:El Segundo Libraries Calendar Creator
METHOD:PUBLISH
BEGIN:VEVENT
DTSTAMP:20250312T112127
DTSTART:20250409T100000
DTEND:20250409T102000
SUMMARY:Baby/Toddler Storytime
DESCRIPTION:<p><strong>Wednesdays, Apr. 9 - May 14**, 2025<br></strong>10 - 10:20 a.m. <span style="text-decoration-line: underline;"><strong>or</strong></span> 10:30 - 10:50 a.m.*</p><p direction-ltr="" align-center="" para-style-body"="">Engage with your little one in this 20 minute program. Enjoy songs, rhymes, and books together! For ages 0-35 months &amp; adult caregiver.</p><p direction-ltr="" align-center="" para-style-body"="">*Space is limited. Tickets are required for Storytimes. Tickets are available 15 minutes before the start of each program at the Youth Desk. Due to popularity of Storytimes, tickets may not be reserved or set aside. Please call 310-524-2726 for more information.</p><p direction-ltr="" align-center="" para-style-title"=""><strong>*Please plan on attending one Storytime since the same Storytime is offered twice.</strong></p><p direction-ltr="" align-center="" para-style-title"="">**Please note, on May 14, there will be a special Bilingual Concert instead of storytime for ages 0-5, 10-10:45 a.m. No tickets required for the concert.</p>
X-ALT-DESC;FMTTYPE=text/html:<p><strong>Wednesdays, Apr. 9 - May 14**, 2025<br></strong>10 - 10:20 a.m. <span style="text-decoration-line: underline;"><strong>or</strong></span> 10:30 - 10:50 a.m.*</p><p direction-ltr="" align-center="" para-style-body"="">Engage with your little one in this 20 minute program. Enjoy songs, rhymes, and books together! For ages 0-35 months &amp; adult caregiver.</p><p direction-ltr="" align-center="" para-style-body"="">*Space is limited. Tickets are required for Storytimes. Tickets are available 15 minutes before the start of each program at the Youth Desk. Due to popularity of Storytimes, tickets may not be reserved or set aside. Please call 310-524-2726 for more information.</p><p direction-ltr="" align-center="" para-style-title"=""><strong>*Please plan on attending one Storytime since the same Storytime is offered twice.</strong></p><p direction-ltr="" align-center="" para-style-title"="">**Please note, on May 14, there will be a special Bilingual Concert instead of storytime for ages 0-5, 10-10:45 a.m. No tickets required for the concert.</p>
LOCATION:El Segundo Public Library\, 111 W. Mariposa Avenue El Segundo\, California 90245
CLASS:PUBLIC
END:VEVENT
END:VCALENDAR
