BEGIN:VCALENDAR
VERSION:2.0
PRODID:El Segundo Libraries Calendar Creator
METHOD:PUBLISH
BEGIN:VEVENT
DTSTAMP:20250227T125942
DTSTART:20250312T153000
DTEND:20250312T173000
SUMMARY:Teen Movie Dungeon & Dragons
DESCRIPTION:<p>Teens join us for a fun afternoon movie Dungeon &amp; Dragons: Honor Among Thieves. A D&amp;D inspired craft &amp; snacks will also be provided. While supplies last. Registration is not required. For more information, please call 310-524-2799 or email amuro@elsegundo.org.</p><p>3:30PM-5:30PM<br>Sue Carter Community Room<br>For Teens 6th-12th grade.</p><p>Movie: Dungeon &amp; Dragons Honor Among Thieves. Rated PG-13.</p>
X-ALT-DESC;FMTTYPE=text/html:<p>Teens join us for a fun afternoon movie Dungeon &amp; Dragons: Honor Among Thieves. A D&amp;D inspired craft &amp; snacks will also be provided. While supplies last. Registration is not required. For more information, please call 310-524-2799 or email amuro@elsegundo.org.</p><p>3:30PM-5:30PM<br>Sue Carter Community Room<br>For Teens 6th-12th grade.</p><p>Movie: Dungeon &amp; Dragons Honor Among Thieves. Rated PG-13.</p>
LOCATION:El Segundo Public Library\, 111 W. Mariposa Avenue El Segundo\, California 90245
CLASS:PUBLIC
END:VEVENT
END:VCALENDAR
