BEGIN:VCALENDAR
VERSION:2.0
PRODID:El Segundo Libraries Calendar Creator
METHOD:PUBLISH
BEGIN:VEVENT
DTSTAMP:20250220T120421
DTSTART:20250226T183000
DTEND:20250226T193000
SUMMARY:Evening Book Discussion Group
DESCRIPTION:This month's book WEST WITH GIRAFFES by Lynda Rutledge is available at the Library's Reference Desk for checkout while supplies last!
X-ALT-DESC;FMTTYPE=text/html:This month's book WEST WITH GIRAFFES by Lynda Rutledge is available at the Library's Reference Desk for checkout while supplies last!
LOCATION:El Segundo Public Library\, 111 W. Mariposa Avenue El Segundo\, California 90245
CLASS:PUBLIC
END:VEVENT
END:VCALENDAR
