BEGIN:VCALENDAR
VERSION:2.0
PRODID:El Segundo Libraries Calendar Creator
METHOD:PUBLISH
BEGIN:VEVENT
DTSTAMP:20250114T124736
DTSTART:20250211T180000
DTEND:20250211T193000
SUMMARY:Junk Journals with Artist Natalie Strong
DESCRIPTION:<p>Unleash your creativity and transform recycled materials into art journals.&nbsp; Please click <a href="https://www.elsegundolibrary.org/home/showdocument?id=10080&amp;t=638724552418175530" target="_blank">HERE</a> to view the flyer.</p><p>Contact the Library's Reference Desk at 310-524-2728 for more information.</p>
X-ALT-DESC;FMTTYPE=text/html:<p>Unleash your creativity and transform recycled materials into art journals.&nbsp; Please click <a href="https://www.elsegundolibrary.org/home/showdocument?id=10080&amp;t=638724552418175530" target="_blank">HERE</a> to view the flyer.</p><p>Contact the Library's Reference Desk at 310-524-2728 for more information.</p>
LOCATION:El Segundo Public Library\, 111 W. Mariposa Avenue El Segundo\, California 90245
CLASS:PUBLIC
END:VEVENT
END:VCALENDAR
