BEGIN:VCALENDAR
VERSION:2.0
PRODID:El Segundo Libraries Calendar Creator
METHOD:PUBLISH
BEGIN:VEVENT
DTSTAMP:20250423T110317
DTSTART:20250503T100000
DTEND:20250503T150000
SUMMARY:Hometown Fair
DESCRIPTION:<p>Step right up! Join us for the Annual Hometown Fair and Carnival on Saturday, May 3rd from 10:00am to 3:00pm. The fair will span from Library Park and throughout the 600 Block of N. Main Street.<br><br>The event will include music and entertainment from local talent, carnival rides, and a Community Booth Expo. The Bake-Off event will award prizes to winners in various categories. Entries for the Bake-Off will be due between 10:00am to 11:00am, with winners being announced in the afternoon. El Segundo High School groups are coordinating game booths in efforts to fundraise for their clubs. A variety of vendors will be selling one-of-a-kind handmade crafts, while the El Segundo Police Department, Fire Department and El Segundo Non-Profit groups will participate in the event to provide information about their organizations and programs.<br><br>Wristbands are on presale for $10 per wristband. Be sure to stop by the Checkout Building or Clubhouse in Recreation Park to buy yours. The wristbands give access to rides and games offered throughout the fair and carnival. To find out more information, check our website under special events or call 310-524-2700 with any questions.</p><p></p>
X-ALT-DESC;FMTTYPE=text/html:<p>Step right up! Join us for the Annual Hometown Fair and Carnival on Saturday, May 3rd from 10:00am to 3:00pm. The fair will span from Library Park and throughout the 600 Block of N. Main Street.<br><br>The event will include music and entertainment from local talent, carnival rides, and a Community Booth Expo. The Bake-Off event will award prizes to winners in various categories. Entries for the Bake-Off will be due between 10:00am to 11:00am, with winners being announced in the afternoon. El Segundo High School groups are coordinating game booths in efforts to fundraise for their clubs. A variety of vendors will be selling one-of-a-kind handmade crafts, while the El Segundo Police Department, Fire Department and El Segundo Non-Profit groups will participate in the event to provide information about their organizations and programs.<br><br>Wristbands are on presale for $10 per wristband. Be sure to stop by the Checkout Building or Clubhouse in Recreation Park to buy yours. The wristbands give access to rides and games offered throughout the fair and carnival. To find out more information, check our website under special events or call 310-524-2700 with any questions.</p><p></p>
LOCATION:Library Park\, 600 Block of Main Street El Segundo\, California 90245
CLASS:PUBLIC
END:VEVENT
END:VCALENDAR
