BEGIN:VCALENDAR
VERSION:2.0
PRODID:El Segundo Libraries Calendar Creator
METHOD:PUBLISH
BEGIN:VEVENT
DTSTAMP:20250102T135938
DTSTART:20250214T100000
DTEND:20250214T120000
SUMMARY:Tiny Tot Tea-Rex Party
DESCRIPTION:<p>Join us on Friday, February 14th from 10:00am-12:00pm for our Tiny Tot Tea-Rex Party! There will be refreshments, snacks, crafts, games, and more! Fancy dress and costumes are encouraged.&nbsp;This event is for children ages 18 months to 4 years with an accompanying adult.&nbsp;</p><p>This event is pre-sale only. Wristbands will be available for purchase for $10 per person at the Clubhouse starting Monday, January 13th.</p><p>For more information, please call 310-524-2362.</p><p></p>
X-ALT-DESC;FMTTYPE=text/html:<p>Join us on Friday, February 14th from 10:00am-12:00pm for our Tiny Tot Tea-Rex Party! There will be refreshments, snacks, crafts, games, and more! Fancy dress and costumes are encouraged.&nbsp;This event is for children ages 18 months to 4 years with an accompanying adult.&nbsp;</p><p>This event is pre-sale only. Wristbands will be available for purchase for $10 per person at the Clubhouse starting Monday, January 13th.</p><p>For more information, please call 310-524-2362.</p><p></p>
LOCATION:George E. Gordon Clubhouse\, 300 E. Pine Ave. El Segundo\, California 90245
CLASS:PUBLIC
END:VEVENT
END:VCALENDAR
