BEGIN:VCALENDAR
VERSION:2.0
PRODID:El Segundo Libraries Calendar Creator
METHOD:PUBLISH
BEGIN:VEVENT
DTSTAMP:20241223T135254
DTSTART:20250217T000000
DTEND:20250217T235900
SUMMARY:The Library is Closed for President's Day
DESCRIPTION:The Library will be closed for President's Day.
X-ALT-DESC;FMTTYPE=text/html:The Library will be closed for President's Day.
LOCATION:
CLASS:PUBLIC
END:VEVENT
END:VCALENDAR
