BEGIN:VCALENDAR
VERSION:2.0
PRODID:El Segundo Libraries Calendar Creator
METHOD:PUBLISH
BEGIN:VEVENT
DTSTAMP:20241223T135105
DTSTART:20250120T000000
DTEND:20250120T235900
SUMMARY:Library Closed for Martin Luther King, Jr. Day
DESCRIPTION:The El Segundo Public Library will be closed in honor of Martin Luther King, Jr. Day.
X-ALT-DESC;FMTTYPE=text/html:The El Segundo Public Library will be closed in honor of Martin Luther King, Jr. Day.
LOCATION:El Segundo Public Library\, 111 W. Mariposa Avenue El Segundo\, California 90245
CLASS:PUBLIC
END:VEVENT
END:VCALENDAR
