BEGIN:VCALENDAR
VERSION:2.0
PRODID:El Segundo Libraries Calendar Creator
METHOD:PUBLISH
BEGIN:VEVENT
DTSTAMP:20250109T083139
DTSTART:20250109T100000
DTEND:20250109T103000
SUMMARY:Spanish Bilingual Storytime
DESCRIPTION:<p>Join us for stories and songs in English and Spanish. Practice basic Spanish vocabulary and rhymes! Children<br>ages 0-5 and their parents/caregivers are welcome. No registration is required.</p><p>Acompáñenos para cuentos y cantos en le biblioteca donde aprenderemos a leer, hablar, y cantar en inglés y<br>español. Los niños pequeños hastalos niños en edad preescolar son bienvenidos. </p>
X-ALT-DESC;FMTTYPE=text/html:<p>Join us for stories and songs in English and Spanish. Practice basic Spanish vocabulary and rhymes! Children<br>ages 0-5 and their parents/caregivers are welcome. No registration is required.</p><p>Acompáñenos para cuentos y cantos en le biblioteca donde aprenderemos a leer, hablar, y cantar en inglés y<br>español. Los niños pequeños hastalos niños en edad preescolar son bienvenidos. </p>
LOCATION:El Segundo Public Library\, 111 W. Mariposa Avenue El Segundo\, California 90245
CLASS:PUBLIC
END:VEVENT
END:VCALENDAR
