BEGIN:VCALENDAR
VERSION:2.0
PRODID:El Segundo Libraries Calendar Creator
METHOD:PUBLISH
BEGIN:VEVENT
DTSTAMP:20250219T084123
DTSTART:20250219T150000
DTEND:20250219T154500
SUMMARY:Cancelled- Wonderful Wednesdays
DESCRIPTION:Cancelled
X-ALT-DESC;FMTTYPE=text/html:Cancelled
LOCATION:El Segundo Public Library\, 111 W. Mariposa Avenue El Segundo\, California 90245
CLASS:PUBLIC
END:VEVENT
END:VCALENDAR
