BEGIN:VCALENDAR
VERSION:2.0
PRODID:El Segundo Libraries Calendar Creator
METHOD:PUBLISH
BEGIN:VEVENT
DTSTAMP:20250109T080455
DTSTART:20250129T183000
DTEND:20250129T193000
SUMMARY:Evening Book Discussion Group
DESCRIPTION:Please join us for a discussion of the book "The Frozen River" by Ariel Lawhon.&nbsp; We will meet in the Library's Community Room at 6:30pm.&nbsp; Books are available at the Reference Desk to check out while supplies last.&nbsp; You may call 310-524-2728 for more information.
X-ALT-DESC;FMTTYPE=text/html:Please join us for a discussion of the book "The Frozen River" by Ariel Lawhon.&nbsp; We will meet in the Library's Community Room at 6:30pm.&nbsp; Books are available at the Reference Desk to check out while supplies last.&nbsp; You may call 310-524-2728 for more information.
LOCATION:El Segundo Public Library\, 111 W. Mariposa Avenue El Segundo\, California 90245
CLASS:PUBLIC
END:VEVENT
END:VCALENDAR
