BEGIN:VCALENDAR
VERSION:2.0
PRODID:El Segundo Libraries Calendar Creator
METHOD:PUBLISH
BEGIN:VEVENT
DTSTAMP:20241112T082123
DTSTART:20241119T150000
DTEND:20241119T170000
SUMMARY:Switch It Up! Teen Gaming program
DESCRIPTION:<p>Calling all teens!<br>Join us for an epic afternoon of gaming, fun, and snacks!</p><p>Bring your friends and your Nintendo Switch! We’ll also have other consoles set up, so you can try out a variety of video games.<br><div> Challenge your friends &amp; meet new gamers!</div><p>&nbsp;<br>Tuesday, November 19th<br>3:00PM- 5:00PM<br>@El Segundo Public Library<br>Sue Carter Community Room<br>For Teens 6th- 12th grade</p><p>Space is limited please sign up at the Adult Reference desk or by calling 310-524-2728<br>Not affiliated with ESUSD.</p><p>&nbsp;</p></p><p>&nbsp;</p>
X-ALT-DESC;FMTTYPE=text/html:<p>Calling all teens!<br>Join us for an epic afternoon of gaming, fun, and snacks!</p><p>Bring your friends and your Nintendo Switch! We’ll also have other consoles set up, so you can try out a variety of video games.<br><div> Challenge your friends &amp; meet new gamers!</div><p>&nbsp;<br>Tuesday, November 19th<br>3:00PM- 5:00PM<br>@El Segundo Public Library<br>Sue Carter Community Room<br>For Teens 6th- 12th grade</p><p>Space is limited please sign up at the Adult Reference desk or by calling 310-524-2728<br>Not affiliated with ESUSD.</p><p>&nbsp;</p></p><p>&nbsp;</p>
LOCATION:El Segundo Public Library\, 111 W. Mariposa Avenue El Segundo\, California 90245
CLASS:PUBLIC
END:VEVENT
END:VCALENDAR
