BEGIN:VCALENDAR
VERSION:2.0
PRODID:El Segundo Libraries Calendar Creator
METHOD:PUBLISH
BEGIN:VEVENT
DTSTAMP:20241010T170524
DTSTART:20241114T180000
DTEND:20241114T190000
SUMMARY:Dinovember Movie
DESCRIPTION:Join us for a fun dino-themed event perfect for families with kids ages 4 and up! We'll be showing a PG-rated movie about dinosaurs that runs approximately 1 hour and 24 minutes. Enjoy snacks and get creative with crafts throughout the movie.
X-ALT-DESC;FMTTYPE=text/html:Join us for a fun dino-themed event perfect for families with kids ages 4 and up! We'll be showing a PG-rated movie about dinosaurs that runs approximately 1 hour and 24 minutes. Enjoy snacks and get creative with crafts throughout the movie.
LOCATION:George E. Gordon Clubhouse\, 300 E. Pine Ave. El Segundo\, California 90245
CLASS:PUBLIC
END:VEVENT
END:VCALENDAR
