BEGIN:VCALENDAR
VERSION:2.0
PRODID:El Segundo Libraries Calendar Creator
METHOD:PUBLISH
BEGIN:VEVENT
DTSTAMP:20241003T101943
DTSTART:20241204T183000
DTEND:20241204T193000
SUMMARY:Evening Book Discussion Group
DESCRIPTION:You are invited to attend our discussion of "The Daughter of Doctor Moreau" by Silvia Moreno Garcia.&nbsp; The meeting will be held in the Community Room of the Library.&nbsp; Please call the Reference Desk at 310-524-2728 for more information.
X-ALT-DESC;FMTTYPE=text/html:You are invited to attend our discussion of "The Daughter of Doctor Moreau" by Silvia Moreno Garcia.&nbsp; The meeting will be held in the Community Room of the Library.&nbsp; Please call the Reference Desk at 310-524-2728 for more information.
LOCATION:El Segundo Public Library\, 111 W. Mariposa Avenue El Segundo\, California 90245
CLASS:PUBLIC
END:VEVENT
END:VCALENDAR
