BEGIN:VCALENDAR
VERSION:2.0
PRODID:El Segundo Libraries Calendar Creator
METHOD:PUBLISH
BEGIN:VEVENT
DTSTAMP:20240905T143612
DTSTART:20241216T110000
DTEND:20241216T120000
SUMMARY:Genealogy Club
DESCRIPTION:<p>Meet other genealogy enthusiasts and join the Genealogy Club. Meetings take place in the El Segundo Public Library's Community Room every 1st and 3rd Monday of the month, excluding holidays. </p><p>Please contact the Reference Desk for additional information at 310-524-2728 or&nbsp;<a href="mailto:refdesk@elsegundo.org?subject=refdesk@elsegundo.org" title="refdesk@elsegundo.org">refdesk@elsegundo.org</a>.</p>
X-ALT-DESC;FMTTYPE=text/html:<p>Meet other genealogy enthusiasts and join the Genealogy Club. Meetings take place in the El Segundo Public Library's Community Room every 1st and 3rd Monday of the month, excluding holidays. </p><p>Please contact the Reference Desk for additional information at 310-524-2728 or&nbsp;<a href="mailto:refdesk@elsegundo.org?subject=refdesk@elsegundo.org" title="refdesk@elsegundo.org">refdesk@elsegundo.org</a>.</p>
LOCATION:El Segundo Public Library\, 111 W. Mariposa Avenue El Segundo\, California 90245
CLASS:PUBLIC
END:VEVENT
END:VCALENDAR
