BEGIN:VCALENDAR
VERSION:2.0
PRODID:El Segundo Libraries Calendar Creator
METHOD:PUBLISH
BEGIN:VEVENT
DTSTAMP:20240819T085056
DTSTART:20240822T180000
DTEND:20240822T193000
SUMMARY:Songwriters in the Round: The Art of the Song
DESCRIPTION:<p>Songwriters in the Round: The Art of the Song returns to the El Segundo Public Library on Thursday, August 22nd, beginning at 6:00 pm.&nbsp; This FREE event is in collaboration with the El Segundo Arts &amp; Culture Advisory Committee and is presented as an Art Walk kickoff event.&nbsp; Singer/Songwriters Rob Bonfiglio, Paula Fong, Sean Lane and Evie Sands will perform and share their collected adventures in composing music.&nbsp; Special guest Carianne Marshall, Co-Chair and Chief Operating Officer of Warner Chappell Music, will be on hand to discuss her role in signing songwriters and placing their works in film, television and other media.</p><p>This program is sponsored by the Arts &amp; Culture Community Engagement Fund.</p><p><a href="https://www.elsegundolibrary.org/home/showdocument?id=9111&amp;t=638575060721663032" target="_blank">Click here</a> to view the flyer.</p><p>For more information, please contact the library's Reference Desk at 310-524-2728.</p>
X-ALT-DESC;FMTTYPE=text/html:<p>Songwriters in the Round: The Art of the Song returns to the El Segundo Public Library on Thursday, August 22nd, beginning at 6:00 pm.&nbsp; This FREE event is in collaboration with the El Segundo Arts &amp; Culture Advisory Committee and is presented as an Art Walk kickoff event.&nbsp; Singer/Songwriters Rob Bonfiglio, Paula Fong, Sean Lane and Evie Sands will perform and share their collected adventures in composing music.&nbsp; Special guest Carianne Marshall, Co-Chair and Chief Operating Officer of Warner Chappell Music, will be on hand to discuss her role in signing songwriters and placing their works in film, television and other media.</p><p>This program is sponsored by the Arts &amp; Culture Community Engagement Fund.</p><p><a href="https://www.elsegundolibrary.org/home/showdocument?id=9111&amp;t=638575060721663032" target="_blank">Click here</a> to view the flyer.</p><p>For more information, please contact the library's Reference Desk at 310-524-2728.</p>
LOCATION:El Segundo Public Library\, 111 W. Mariposa Avenue El Segundo\, California 90245
CLASS:PUBLIC
END:VEVENT
END:VCALENDAR
