BEGIN:VCALENDAR
VERSION:2.0
PRODID:El Segundo Libraries Calendar Creator
METHOD:PUBLISH
BEGIN:VEVENT
DTSTAMP:20230803T144904
DTSTART:20230803T180000
DTEND:20230803T200000
SUMMARY:Diversity Equity, and Inclusion Committee Meeting - CANCELED
DESCRIPTION:<p>The Thursday, August 3, 2023 meeting of the Diversity, Equity and Inclusion Committee has been canceled due to lack of quorum.</p><p>For any questions or additional information, please contact Brandee Thornton, Sr. Administrative Specialist at <a href="mailto:bthornton@elsegundo.org" target="_blank">bthornton@elsegundo.org</a>.</p><p>&nbsp;</p>
X-ALT-DESC;FMTTYPE=text/html:<p>The Thursday, August 3, 2023 meeting of the Diversity, Equity and Inclusion Committee has been canceled due to lack of quorum.</p><p>For any questions or additional information, please contact Brandee Thornton, Sr. Administrative Specialist at <a href="mailto:bthornton@elsegundo.org" target="_blank">bthornton@elsegundo.org</a>.</p><p>&nbsp;</p>
LOCATION:El Segundo City Hall\, 350 Main Street El Segundo\, California 90245
CLASS:PUBLIC
END:VEVENT
END:VCALENDAR
