BEGIN:VCALENDAR
VERSION:2.0
PRODID:El Segundo Libraries Calendar Creator
METHOD:PUBLISH
BEGIN:VEVENT
DTSTAMP:20230803T135652
DTSTART:20230817T130000
DTEND:20230817T150000
SUMMARY:Ice Pop with a Cop
DESCRIPTION:<p>&nbsp;</p><p>&nbsp;Come beat the heat and join us for Ice Pop with a Cop! See you there!</p>
X-ALT-DESC;FMTTYPE=text/html:<p>&nbsp;</p><p>&nbsp;Come beat the heat and join us for Ice Pop with a Cop! See you there!</p>
LOCATION:Recreation Park\, Eucalyptus Drive/Pine Avenue\, (Near the Skate Circle) El Segundo\, California 90245
CLASS:PUBLIC
END:VEVENT
END:VCALENDAR
