BEGIN:VCALENDAR
VERSION:2.0
PRODID:El Segundo Libraries Calendar Creator
METHOD:PUBLISH
BEGIN:VEVENT
DTSTAMP:20230608T110603
DTSTART:20230611T100000
DTEND:20230611T113000
SUMMARY:Daddy & Me Storytime
DESCRIPTION:<p><iframe src="https://www.youtube.com/embed/DsGYQsVzoA4" width="400" allowfullscreen="" height="300" frameborder="0"></iframe>&nbsp;</p><p>An exciting collaboration between ESPL and ESFD will take place on Sunday, June 11, 10:00 a.m. to 11:30 a.m. at Fire Station #1. Join Fire Engineer Clayton Holt and El Segundo Poet Laureate Hope Anita Smith as they share Hope’s book of poems that celebrates dads; <em>My Daddy Rules the World! </em>There will also be an age-appropriate poetry activity, photo opportunities and much more! Please contact Cultural Arts Coordinator Sam Lee at 310-524-2771 or&nbsp;<a href="mailto:slee3@elsegundo.org" target="_blank" rel="noopener">slee3@elsegundo.org</a>&nbsp;for additional information.</p><p>&nbsp;</p><p>&nbsp;</p><p>&nbsp;</p>
X-ALT-DESC;FMTTYPE=text/html:<p><iframe src="https://www.youtube.com/embed/DsGYQsVzoA4" width="400" allowfullscreen="" height="300" frameborder="0"></iframe>&nbsp;</p><p>An exciting collaboration between ESPL and ESFD will take place on Sunday, June 11, 10:00 a.m. to 11:30 a.m. at Fire Station #1. Join Fire Engineer Clayton Holt and El Segundo Poet Laureate Hope Anita Smith as they share Hope’s book of poems that celebrates dads; <em>My Daddy Rules the World! </em>There will also be an age-appropriate poetry activity, photo opportunities and much more! Please contact Cultural Arts Coordinator Sam Lee at 310-524-2771 or&nbsp;<a href="mailto:slee3@elsegundo.org" target="_blank" rel="noopener">slee3@elsegundo.org</a>&nbsp;for additional information.</p><p>&nbsp;</p><p>&nbsp;</p><p>&nbsp;</p>
LOCATION:Fire Station #1\, 314 Main St. El Segundo\, California 90245
CLASS:PUBLIC
END:VEVENT
END:VCALENDAR
