BEGIN:VCALENDAR
VERSION:2.0
PRODID:El Segundo Libraries Calendar Creator
METHOD:PUBLISH
BEGIN:VEVENT
DTSTAMP:20230519T105845
DTSTART:20230525T173000
DTEND:20230525T190000
SUMMARY:Downtown Specific Plan Update - Planning Commission Study Session
DESCRIPTION:
X-ALT-DESC;FMTTYPE=text/html:
LOCATION:City Council Chamber\, 350 Main Street El Segundo\, California 90245
CLASS:PUBLIC
END:VEVENT
END:VCALENDAR
